BEGIN:VCALENDAR
VERSION:2.0
PRODID:-//Squarespace Inc/Squarespace 6//v6//EN
BEGIN:VEVENT
UID:5b56c080352f53339a6b2c51@squarespace.com
DTSTAMP:20181014T002849Z
DTSTART:20181207T040000Z
DTEND:20181207T110000Z
SUMMARY:Christmas in The Boo
GEO:-38.400888;146.156513
LOCATION:Baromi Park\, Mirboo North VIC 3871\, Australia
END:VEVENT
END:VCALENDAR
