BEGIN:VCALENDAR
VERSION:2.0
PRODID:-//Squarespace Inc/Squarespace 6//v6//EN
BEGIN:VEVENT
UID:5dcce9ded72aef32bd8e2e58@squarespace.com
DTSTAMP:20191114T054700Z
DTSTART:20200113T000000Z
DTEND:20200124T070000Z
SUMMARY:BooKIDS School Holiday Program
END:VEVENT
END:VCALENDAR
