BEGIN:VCALENDAR
VERSION:2.0
PRODID:-//Squarespace Inc/Squarespace 6//v6//EN
BEGIN:VEVENT
UID:5dccea6b69390456f80c4563@squarespace.com
DTSTAMP:20191114T055257Z
DTSTART:20191122T050000Z
DTEND:20191122T110000Z
SUMMARY:Shed 28 Night Market
END:VEVENT
END:VCALENDAR
