BEGIN:VCALENDAR
VERSION:2.0
PRODID:-//Squarespace Inc/Squarespace 6//v6//EN
BEGIN:VEVENT
UID:5d2c44572bb3be000155dca4@squarespace.com
DTSTAMP:20190821T060632Z
DTSTART:20191206T060000Z
DTEND:20191206T110000Z
SUMMARY:Christmas in The Boo 
END:VEVENT
END:VCALENDAR
