BEGIN:VCALENDAR
VERSION:2.0
PRODID:-//Squarespace Inc/Squarespace 6//v6//EN
BEGIN:VEVENT
UID:5caed154eb39317a0b0430be@squarespace.com
DTSTAMP:20190411T053927Z
DTSTART:20190622T083000Z
DTEND:20190622T133000Z
SUMMARY:Carnival in The Boo
END:VEVENT
END:VCALENDAR
