BEGIN:VCALENDAR
VERSION:2.0
PRODID:-//Squarespace Inc/Squarespace 6//v6//EN
BEGIN:VEVENT
UID:5d5b76212854b90001a76d85@squarespace.com
DTSTAMP:20191114T055426Z
DTSTART:20200208T230000Z
DTEND:20200209T050000Z
SUMMARY:Mirboo North Italian Festa
END:VEVENT
END:VCALENDAR
