BEGIN:VCALENDAR
VERSION:2.0
PRODID:-//Squarespace Inc/Squarespace 6//v6//EN
BEGIN:VEVENT
UID:5def7ee7948d0b20e3a7d4a4@squarespace.com
DTSTAMP:20191210T112003Z
DTSTART:20200314T220000Z
DTEND:20200315T003000Z
SUMMARY:Grand Ridge Rail Trail Fun Run 
GEO:-38.39506;146.149841
LOCATION:Mirboo North
END:VEVENT
END:VCALENDAR
